Workbook

Sheet 表紙
H10: =AA29 -> EM-System
H17: =REPLACE(LEFT(CELL("filename",$A$1),FIND(".",CELL("filename",$A$1))-1),1,FIND("[",CELL("filename",$A$1)),) -> 【組織の階層構造導入】基本設計書
S29: プロジェクト名称 | AA29: EM-System
S30: 案件 | AA30: 組織の階層構造導入

Sheet 改訂履歴
J3: =表紙!H17 -> 【組織の階層構造導入】基本設計書
A4: 改訂履歴
A5: 版数 | D5: 日付 | I5: 内容 | AY5: 作成者 | BC5: 承認者
A6: 1 | D6: 45627 | I6: 新規作成 | AY6: 山田
B7: 1.1 | D7: 46276 | I7: 機能一覧シートの一般ユーザのアクセスイベントの修正、画面_部署登録シートの画面イメージの修正 | AY7: 山本

Sheet システム概要
A1: =RIGHT(CELL("filename",A1),LEN(CELL("filename",A1))-FIND("]",CELL("filename",A1))) -> システム概要 | Y1: システム名 | AE1: =IF(表紙!AA29<>"",表紙!AA29,"") -> EM-System | AP1: 案件 | AV1: =IF(表紙!AA30<>"",表紙!AA30,"") -> 組織の階層構造導入
Y2: 作成日 | AE2: 45627 | AP2: 作成者 | AV2: 山田
Y3: 更新日時 | AP3: 更新者
A4: 概要
P10: Linux CentOS 7.1
Q11: firewall ： http/https/ssh - TCP

Sheet 機能一覧
A1: =RIGHT(CELL("filename",A1),LEN(CELL("filename",A1))-FIND("]",CELL("filename",A1))) -> 機能一覧 | AI1: システム名 | AO1: =IF(表紙!AA29<>"",表紙!AA29,"") -> EM-System | AZ1: 案件 | BF1: =IF(表紙!AA30<>"",表紙!AA30,"") -> 組織の階層構造導入
AI2: 作成日 | AO2: 45627 | AZ2: 作成者 | BF2: 山田
AI3: 更新日時 | AZ3: 更新者
A4: 機能一覧

Sheet 画面遷移図
A1: =RIGHT(CELL("filename",A1),LEN(CELL("filename",A1))-FIND("]",CELL("filename",A1))) -> 画面遷移図 | AJ1: システム名 | AP1: EM-System | BA1: 案件 | BG1: =IF(表紙!AA30<>"",表紙!AA30,"") -> 組織の階層構造導入
AJ2: 作成日 | AP2: 45627 | BA2: 作成者 | BG2: 山田
AJ3: 更新日時 | BA3: 更新者
A4: 画面遷移図
C6: 社員情報メンテナンス
D7: ※全ての画面からログインへ遷移可能

Sheet 画面_社員検索
A1: =RIGHT(CELL("filename",A1),LEN(CELL("filename",A1))-FIND("]",CELL("filename",A1))) -> 画面_社員検索 | Y1: システム名 | AE1: =IF(表紙!AA29<>"",表紙!AA29,"") -> EM-System | AP1: 案件 | AV1: =IF(表紙!AA30<>"",表紙!AA30,"") -> 組織の階層構造導入
Y2: 作成日 | AE2: 45627 | AP2: 作成者 | AV2: 山田
Y3: 更新日時 | AP3: 更新者
A4: 社員検索
A5: 概要 | E5: 条件に一致する社員を検索する画面
A6: 画面イメージ | AF6: イベント一覧
AF7: 項番 | AH7: 項目 | AR7: 表示内容
AF8: ① | AH8: 所属部署 | AR8: 以下のような構成で表示される選択リスト 本部 部 課 本部 部 課
AF14: ② | AH14: 検索結果 | AR14: 既存システムの表示内容と基本は同じ。所属部署のみ階層構造で表示するように変更。

Sheet 画面_社員情報更新
A1: =RIGHT(CELL("filename",A1),LEN(CELL("filename",A1))-FIND("]",CELL("filename",A1))) -> 画面_社員情報更新 | Y1: システム名 | AE1: =IF(表紙!AA29<>"",表紙!AA29,"") -> EM-System | AP1: 案件 | AV1: =IF(表紙!AA30<>"",表紙!AA30,"") -> 組織の階層構造導入
Y2: 作成日 | AE2: 45627 | AP2: 作成者 | AV2: 山田
Y3: 更新日時 | AP3: 更新者
A4: 社員情報更新
A5: 概要 | E5: 登録済みの社員情報を変更する画面
A6: 画面イメージ | AF6: イベント一覧
AF7: 項番 | AH7: 項目 | AR7: 表示内容
AF8: ① | AH8: 社員情報 | AR8: 既存画面から変更なし
AF10: ② | AH10: 所属部署 | AR10: 本部 部 課 の構成で選択肢を表示する。ただし、選択できるのは課のみ。 例

Sheet 画面_社員登録
A1: =RIGHT(CELL("filename",A1),LEN(CELL("filename",A1))-FIND("]",CELL("filename",A1))) -> 画面_社員登録 | Y1: システム名 | AE1: =IF(表紙!AA29<>"",表紙!AA29,"") -> EM-System | AP1: 案件 | AV1: =IF(表紙!AA30<>"",表紙!AA30,"") -> 組織の階層構造導入
Y2: 作成日 | AE2: 45627 | AP2: 作成者 | AV2: 山田
Y3: 更新日時 | AP3: 更新者
A4: 社員登録
A5: 概要 | E5: 社員情報を登録する画面
A6: 画面イメージ | AF6: イベント一覧
AF7: 項番 | AH7: 項目 | AR7: 表示内容
AF8: ① | AH8: 社員情報 | AR8: 既存画面から変更なし
AF10: ② | AH10: 所属部署 | AR10: 本部 部 課 の構成で選択肢を表示する。ただし、選択できるのは課のみ。 例

Sheet 画面_社員登録内容確認
A1: =RIGHT(CELL("filename",A1),LEN(CELL("filename",A1))-FIND("]",CELL("filename",A1))) -> 画面_社員登録内容確認 | Y1: システム名 | AE1: =IF(表紙!AA29<>"",表紙!AA29,"") -> EM-System | AP1: 案件 | AV1: =IF(表紙!AA30<>"",表紙!AA30,"") -> 組織の階層構造導入
Y2: 作成日 | AE2: 45627 | AP2: 作成者 | AV2: 山田
Y3: 更新日時 | AP3: 更新者
A4: 社員登録内容確認
A5: 概要 | E5: 社員登録画面での入力内容を確認する画面
A6: 画面イメージ | AF6: イベント一覧
AF7: 項番 | AH7: 項目 | AR7: 表示内容
AF8: ① | AH8: 社員情報 | AR8: 既存画面から変更なし
AF10: ② | AH10: 所属部署 | AR10: 前画面で選択した課を表示する。 表示のみで変更は不可。

Sheet 画面_部署検索
A1: =RIGHT(CELL("filename",A1),LEN(CELL("filename",A1))-FIND("]",CELL("filename",A1))) -> 画面_部署検索 | Y1: システム名 | AE1: =IF(表紙!AA29<>"",表紙!AA29,"") -> EM-System | AP1: 案件 | AV1: =IF(表紙!AA30<>"",表紙!AA30,"") -> 組織の階層構造導入
Y2: 作成日 | AE2: 45627 | AP2: 作成者 | AV2: 山田
Y3: 更新日時 | AP3: 更新者
A4: 部署検索
A5: 概要 | E5: 条件に一致する部署を検索する画面
A6: 画面イメージ | AF6: イベント一覧
AF7: 項番 | AH7: 項目 | AR7: 表示内容
AF8: ① | AH8: 検索条件 | AR8: 既存画面から変更なし
AF10: ② | AH10: 検索結果 | AR10: 検索条件に該当する本部、部、課を表示

Sheet 画面_部署情報更新
A1: =RIGHT(CELL("filename",A1),LEN(CELL("filename",A1))-FIND("]",CELL("filename",A1))) -> 画面_部署情報更新 | Y1: システム名 | AE1: =IF(表紙!AA29<>"",表紙!AA29,"") -> EM-System | AP1: 案件 | AV1: =IF(表紙!AA30<>"",表紙!AA30,"") -> 組織の階層構造導入
Y2: 作成日 | AE2: 45627 | AP2: 作成者 | AV2: 山田
Y3: 更新日時 | AP3: 更新者
A4: 部署情報更新
A5: 概要 | E5: 部署情報更新
A6: 画面イメージ | AF6: イベント一覧
AF7: 項番 | AH7: 項目 | AR7: 表示内容
AF8: ① | AH8: 本部ID | AR8: 本部IDを表示する。変更不可。
AF10: ② | AH10: 本部名 | AR10: 本部名の入力欄。初期値として修正前の本部名を表示する。
AF12: ③ | AH12: 部ID | AR12: 部IDを表示する。変更不可能。
AF14: ④ | AH14: 部名 | AR14: 部名の入力欄。初期値として修正前の部名を表示する。
AF16: ⑤ | AH16: 課ID | AR16: 課IDを表示する。変更不可。
AF18: ⑥ | AH18: 課名 | AR18: 課名の入力欄。初期値として修正前の課名を表示する。

Sheet 画面_部署登録
A1: =RIGHT(CELL("filename",A1),LEN(CELL("filename",A1))-FIND("]",CELL("filename",A1))) -> 画面_部署登録 | Y1: システム名 | AE1: =IF(表紙!AA29<>"",表紙!AA29,"") -> EM-System | AP1: 案件 | AV1: =IF(表紙!AA30<>"",表紙!AA30,"") -> 組織の階層構造導入
Y2: 作成日 | AE2: 45627 | AP2: 作成者 | AV2: 山田
Y3: 更新日時 | AP3: 更新者
A4: 部署登録
A5: 概要 | E5: 部署情報を登録する画面
A6: 画面イメージ | AF6: イベント一覧
AF7: 項番 | AH7: 項目 | AR7: 表示内容
AF8: ① | AH8: 本部ID | AR8: 自動採番のため「自動で設定されます」を表示する。
AF10: ② | AH10: 本部名（新規登録） | AR10: 新規本部を登録する場合の入力欄。 ③も選択していた場合、本項目を優先する。
AF12: ③ | AH12: 本部名（既存から選択） | AR12: 既存の本部を選択肢として表示する。 ②も入力していた場合、②を優先する。
AF14: ④ | AH14: 部ID | AR14: 自動採番のため「自動で設定されます」を表示する。
AF16: ⑤ | AH16: 部名（新規登録） | AR16: 新規部を登録する場合の入力欄。 ⑥も選択していた場合、本項目を優先する。
AF18: ⑥ | AH18: 部名（既存から選択） | AR18: 既存の部を選択肢として表示する。 ⑤も入力していた場合、⑤を優先する。
AF20: ⑦ | AH20: 課ID | AR20: 自動採番のため「自動で設定されます」を表示する。
AF22: ⑧ | AH22: 課名（新規登録） | AR22: 新規課を登録する場合の入力欄。 ⑨も選択していた場合、本項目を優先する。
AF24: ⑨ | AH24: 課名（既存から選択） | AR24: 既存の課を選択肢として表示する。 ⑧も入力していた場合、⑧を優先する。
B27: ※本部、部、課は必ず入力、または選択しないと登録不可とする

Sheet 画面_部署登録内容確認
A1: =RIGHT(CELL("filename",A1),LEN(CELL("filename",A1))-FIND("]",CELL("filename",A1))) -> 画面_部署登録内容確認 | Y1: システム名 | AE1: =IF(表紙!AA29<>"",表紙!AA29,"") -> EM-System | AP1: 案件 | AV1: =IF(表紙!AA30<>"",表紙!AA30,"") -> 組織の階層構造導入
Y2: 作成日 | AE2: 45627 | AP2: 作成者 | AV2: 山田
Y3: 更新日時 | AP3: 更新者
A4: 部署登録内容確認
A5: 概要 | E5: 部署登録画面での入力内容を確認する画面
A6: 画面イメージ | AF6: イベント一覧
AF7: 項番 | AH7: 項目 | AR7: 表示内容
AF8: ① | AH8: 登録内容 | AR8: 前画面の入力内容を表示する。変更不可。

Sheet テーブル構成
A1: =RIGHT(CELL("filename",A1),LEN(CELL("filename",A1))-FIND("]",CELL("filename",A1))) -> テーブル構成 | Y1: システム名 | AE1: =IF(表紙!AA29<>"",表紙!AA29,"") -> EM-System | AP1: 案件 | AV1: =IF(表紙!AA30<>"",表紙!AA30,"") -> 組織の階層構造導入
Y2: 作成日 | AE2: 45627 | AP2: 作成者 | AV2: 山田
Y3: 更新日時 | AP3: 更新者
A4: =A1 -> テーブル構成
